BEGIN:VCALENDAR
VERSION:2.0
PRODID:-//Kopke&#039;s Greenhouse - ECPv6.15.20//NONSGML v1.0//EN
CALSCALE:GREGORIAN
METHOD:PUBLISH
X-WR-CALNAME:Kopke&#039;s Greenhouse
X-ORIGINAL-URL:https://kopkesgreenhouse.com
X-WR-CALDESC:Events for Kopke&#039;s Greenhouse
REFRESH-INTERVAL;VALUE=DURATION:PT1H
X-Robots-Tag:noindex
X-PUBLISHED-TTL:PT1H
BEGIN:VTIMEZONE
TZID:America/Chicago
BEGIN:DAYLIGHT
TZOFFSETFROM:-0600
TZOFFSETTO:-0500
TZNAME:CDT
DTSTART:20250309T080000
END:DAYLIGHT
BEGIN:STANDARD
TZOFFSETFROM:-0500
TZOFFSETTO:-0600
TZNAME:CST
DTSTART:20251102T070000
END:STANDARD
BEGIN:DAYLIGHT
TZOFFSETFROM:-0600
TZOFFSETTO:-0500
TZNAME:CDT
DTSTART:20260308T080000
END:DAYLIGHT
BEGIN:STANDARD
TZOFFSETFROM:-0500
TZOFFSETTO:-0600
TZNAME:CST
DTSTART:20261101T070000
END:STANDARD
BEGIN:DAYLIGHT
TZOFFSETFROM:-0600
TZOFFSETTO:-0500
TZNAME:CDT
DTSTART:20270314T080000
END:DAYLIGHT
BEGIN:STANDARD
TZOFFSETFROM:-0500
TZOFFSETTO:-0600
TZNAME:CST
DTSTART:20271107T070000
END:STANDARD
END:VTIMEZONE
BEGIN:VEVENT
DTSTART;TZID=America/Chicago:20260423T000000
DTEND;TZID=America/Chicago:20260426T235959
DTSTAMP:20260425T104031
CREATED:20260411T022437Z
LAST-MODIFIED:20260411T022440Z
UID:10000046-1776902400-1777247999@kopkesgreenhouse.com
SUMMARY:Spring Grand Opening Weekend!
DESCRIPTION:Thu-Fri: 8:30am-7:30pm | Sat: 8:30am-6:00pm | Sun: 8:30am-5:00pm \n\n\n\nLeave work on Thursday and start the weekend early!We’re thrilled to have you join us back at the greenhouse and can’t wait to delight your senses with this year’s bloomers. We’re kicking it off right with our Grand Opening Drawing where a lucky few will take home some of the FIRST hanging baskets of the season!Visit us in person between opening day\, Thursday\, April 23rd and Sunday\, April 26th to enter our drawing*. \n\n\n\nOne lucky plant-lover per day will win a FREE HANGING BASKET! \n\n\n\nOther notables prizes include: On Monday\, April 27th\, we’ll draw names for four Kopke’s Greenhouse gift certificates!– 1st place wins: A $100 Gift Card!– 2nd-4th places each win: A $50 Gift Card! \n\n\n\n*(One entry per day\, in person only. Winners will be notified by phone or email.)
URL:https://kopkesgreenhouse.com/event/spring-grand-opening-weekend/
LOCATION:Kopke’s Greenhouse\, 1828 Sand Hill Rd\, Oregon\, WI\, WI\, 53575\, United States
ATTACH;FMTTYPE=image/jpeg:https://kopkesgreenhouse.com/wp-content/uploads/2024/03/a02.jpg
GEO:42.9446515;-89.3480244
X-APPLE-STRUCTURED-LOCATION;VALUE=URI;X-ADDRESS=Kopke’s Greenhouse 1828 Sand Hill Rd Oregon WI WI 53575 United States;X-APPLE-RADIUS=500;X-TITLE=1828 Sand Hill Rd:geo:-89.3480244,42.9446515
END:VEVENT
END:VCALENDAR