BEGIN:VCALENDAR
VERSION:2.0
PRODID:-//Kopke&#039;s Greenhouse - ECPv6.15.20//NONSGML v1.0//EN
CALSCALE:GREGORIAN
METHOD:PUBLISH
X-WR-CALNAME:Kopke&#039;s Greenhouse
X-ORIGINAL-URL:https://kopkesgreenhouse.com
X-WR-CALDESC:Events for Kopke&#039;s Greenhouse
REFRESH-INTERVAL;VALUE=DURATION:PT1H
X-Robots-Tag:noindex
X-PUBLISHED-TTL:PT1H
BEGIN:VTIMEZONE
TZID:America/Chicago
BEGIN:DAYLIGHT
TZOFFSETFROM:-0600
TZOFFSETTO:-0500
TZNAME:CDT
DTSTART:20230312T080000
END:DAYLIGHT
BEGIN:STANDARD
TZOFFSETFROM:-0500
TZOFFSETTO:-0600
TZNAME:CST
DTSTART:20231105T070000
END:STANDARD
BEGIN:DAYLIGHT
TZOFFSETFROM:-0600
TZOFFSETTO:-0500
TZNAME:CDT
DTSTART:20240310T080000
END:DAYLIGHT
BEGIN:STANDARD
TZOFFSETFROM:-0500
TZOFFSETTO:-0600
TZNAME:CST
DTSTART:20241103T070000
END:STANDARD
BEGIN:DAYLIGHT
TZOFFSETFROM:-0600
TZOFFSETTO:-0500
TZNAME:CDT
DTSTART:20250309T080000
END:DAYLIGHT
BEGIN:STANDARD
TZOFFSETFROM:-0500
TZOFFSETTO:-0600
TZNAME:CST
DTSTART:20251102T070000
END:STANDARD
END:VTIMEZONE
BEGIN:VEVENT
DTSTART;TZID=America/Chicago:20241117T090000
DTEND;TZID=America/Chicago:20241117T180000
DTSTAMP:20260425T165808
CREATED:20241031T150746Z
LAST-MODIFIED:20241103T231520Z
UID:10000021-1731834000-1731866400@kopkesgreenhouse.com
SUMMARY:Magic Mistletoe Holiday Market
DESCRIPTION:Join us for this free\, two-day holiday makers’ market at Kopke’s!Food trucks\, picture ops with Santa\, craft stations\, and lots of local makers with cool stuff! \n\n\n\n40 vendors will be present including:Bella Cosa (Christmas decor\, wine glasses\, holiday flora)\, Crow Spirit Connection (healing teas\, bath salts\,psychic medium)\, Dave Garvey (Vintage Records CDs Cassettes)\, Deb White (macrame\, disco ball planters\, wind chimes)\, Gypsy Traveling (cat toys)\, Jen Williams Pottery\, Mary Mell (embroidery jewelry)\, Terri Drews (Seamstress)\, The Chocolate Caper (chocolates and deliciousness)\, Wear What Boutique\, Windsor Candle Works\, Woods by Bob (cutting boards\, pepper mills\, river boards)\, and many\, many more! \n\n\n\nFood Trucks include:Cozzy Cabin Co. Coffee & Treats\, Eat at Joe’s Hibachi\, Mi Casa Es Tu Casa Mexican\, Tipsy Bee’s Tap Trailer \n\n\n\n\n\n\n\n \n\n\n\nJoin us at the farm and greenhouses at 1828 Sand Hill Rd\, Oregon\, WI 53575-2219\, November 16th and 17th for this wonderful event!
URL:https://kopkesgreenhouse.com/event/magic-mistletoe-holiday-market/2024-11-17/
LOCATION:WI
CATEGORIES:Markets
ATTACH;FMTTYPE=image/jpeg:https://kopkesgreenhouse.com/wp-content/uploads/2024/10/Christmas_Dino.jpg
END:VEVENT
BEGIN:VEVENT
DTSTART;TZID=America/Chicago:20241116T090000
DTEND;TZID=America/Chicago:20241116T180000
DTSTAMP:20260425T165808
CREATED:20241031T150746Z
LAST-MODIFIED:20241103T231520Z
UID:10000020-1731747600-1731780000@kopkesgreenhouse.com
SUMMARY:Magic Mistletoe Holiday Market
DESCRIPTION:Join us for this free\, two-day holiday makers’ market at Kopke’s!Food trucks\, picture ops with Santa\, craft stations\, and lots of local makers with cool stuff! \n\n\n\n40 vendors will be present including:Bella Cosa (Christmas decor\, wine glasses\, holiday flora)\, Crow Spirit Connection (healing teas\, bath salts\,psychic medium)\, Dave Garvey (Vintage Records CDs Cassettes)\, Deb White (macrame\, disco ball planters\, wind chimes)\, Gypsy Traveling (cat toys)\, Jen Williams Pottery\, Mary Mell (embroidery jewelry)\, Terri Drews (Seamstress)\, The Chocolate Caper (chocolates and deliciousness)\, Wear What Boutique\, Windsor Candle Works\, Woods by Bob (cutting boards\, pepper mills\, river boards)\, and many\, many more! \n\n\n\nFood Trucks include:Cozzy Cabin Co. Coffee & Treats\, Eat at Joe’s Hibachi\, Mi Casa Es Tu Casa Mexican\, Tipsy Bee’s Tap Trailer \n\n\n\n\n\n\n\n \n\n\n\nJoin us at the farm and greenhouses at 1828 Sand Hill Rd\, Oregon\, WI 53575-2219\, November 16th and 17th for this wonderful event!
URL:https://kopkesgreenhouse.com/event/magic-mistletoe-holiday-market/2024-11-16/
LOCATION:WI
CATEGORIES:Markets
ATTACH;FMTTYPE=image/jpeg:https://kopkesgreenhouse.com/wp-content/uploads/2024/10/Christmas_Dino.jpg
END:VEVENT
BEGIN:VEVENT
DTSTART;TZID=America/Chicago:20240526T150000
DTEND;TZID=America/Chicago:20240526T160000
DTSTAMP:20260425T165808
CREATED:20240514T215033Z
LAST-MODIFIED:20240514T235714Z
UID:10000019-1716735600-1716739200@kopkesgreenhouse.com
SUMMARY:The Annual Kopke's Greenhouse Planter Auction for Badger Honor Flight
DESCRIPTION:Join us for the annual Kopke’s Greenhouse Planter Auction supporting Badger Honor Flight\, a beloved community event dedicated to raising funds for our cherished veterans. Mark your calendars for Sunday\, May 26th\, 2024\, starting at 3:00 pm. \n\n\n\nDiscover over 35 exquisite planters\, each a unique masterpiece\, available for auction. Don’t miss your chance to bid on these one-of-a-kind creations while supporting a noble cause. Last year\, our auction raised an incredible $16\,000! \n\n\n\nIndulge in a delicious brat\, chips\, and a soda from our brat stand along with live music throughout the day. \n\n\n\nOur auction will be expertly facilitated by renowned auctioneer Bob Johnson from Badger State Auction\, ensuring an engaging and thrilling experience for all attendees. \n\n\n\nCome together as a community to honor and support our veterans. Learn more about the Badger Honor Flight program and its impactful mission at badgerhonorflight.org. \n\n\n\nThe auction bidding will begin promptly at 3:00pm\, so make sure to come early to view and decide which (or all) of the planters you’d like a chance to take home! \n\n\n\nDon’t miss this opportunity to make a difference while enjoying a day of camaraderie\, creativity\, and celebration. See you there!
URL:https://kopkesgreenhouse.com/event/the-annual-kopkes-greenhouse-planter-auction-for-badger-honor-flight/
LOCATION:WI
CATEGORIES:Community
ATTACH;FMTTYPE=image/png:https://kopkesgreenhouse.com/wp-content/uploads/2022/05/Badger-Honor-Flight-Logo.png
END:VEVENT
END:VCALENDAR